BEGIN:VCALENDAR
VERSION:2.0
PRODID:-//digitallernen - ECPv6.15.20//NONSGML v1.0//EN
CALSCALE:GREGORIAN
METHOD:PUBLISH
X-WR-CALNAME:FHNW - digitallernen.ch - Veranstaltungen
X-ORIGINAL-URL:https://www.digitallernen.ch
X-WR-CALDESC:Veranstaltungen im digitallernen
REFRESH-INTERVAL;VALUE=DURATION:PT1H
X-Robots-Tag:noindex
X-PUBLISHED-TTL:PT1H
BEGIN:VTIMEZONE
TZID:Europe/Zurich
BEGIN:DAYLIGHT
TZOFFSETFROM:+0100
TZOFFSETTO:+0200
TZNAME:CEST
DTSTART:20210328T010000
END:DAYLIGHT
BEGIN:STANDARD
TZOFFSETFROM:+0200
TZOFFSETTO:+0100
TZNAME:CET
DTSTART:20211031T010000
END:STANDARD
BEGIN:DAYLIGHT
TZOFFSETFROM:+0100
TZOFFSETTO:+0200
TZNAME:CEST
DTSTART:20220327T010000
END:DAYLIGHT
BEGIN:STANDARD
TZOFFSETFROM:+0200
TZOFFSETTO:+0100
TZNAME:CET
DTSTART:20221030T010000
END:STANDARD
BEGIN:DAYLIGHT
TZOFFSETFROM:+0100
TZOFFSETTO:+0200
TZNAME:CEST
DTSTART:20230326T010000
END:DAYLIGHT
BEGIN:STANDARD
TZOFFSETFROM:+0200
TZOFFSETTO:+0100
TZNAME:CET
DTSTART:20231029T010000
END:STANDARD
END:VTIMEZONE
BEGIN:VEVENT
DTSTART;TZID=Europe/Zurich:20220920T100000
DTEND;TZID=Europe/Zurich:20220920T110000
DTSTAMP:20260422T003956
CREATED:20220308T075100Z
LAST-MODIFIED:20220712T093508Z
UID:7693-1663668000-1663671600@www.digitallernen.ch
SUMMARY:Sprechstunde für Hochschullehrende - online
DESCRIPTION:Online: Link zur Zoom-Sitzung
URL:https://www.digitallernen.ch/termin/20220920-sprechstunde-fdl/
LOCATION:Online via Zoom
CATEGORIES:Sprechstunde Hochschulehrende
ATTACH;FMTTYPE=image/png:https://www.digitallernen.ch/wp-content/uploads/BeratungSprechstunde.png
ORGANIZER;CN="Fachstelle f%C3%BCr digitales Lehren und Lernen FDL":MAILTO:elearning.ph@fhnw.ch
END:VEVENT
BEGIN:VEVENT
DTSTART;TZID=Europe/Zurich:20220921T150000
DTEND;TZID=Europe/Zurich:20220921T160000
DTSTAMP:20260422T003956
CREATED:20220308T075321Z
LAST-MODIFIED:20220712T093544Z
UID:7695-1663772400-1663776000@www.digitallernen.ch
SUMMARY:Sprechstunde für Hochschullehrende - online
DESCRIPTION:Online: Link zur Zoom-Sitzung
URL:https://www.digitallernen.ch/termin/20220921-sprechstunde-fdl-hl/
LOCATION:Online via Zoom
CATEGORIES:Sprechstunde Hochschulehrende
ATTACH;FMTTYPE=image/png:https://www.digitallernen.ch/wp-content/uploads/BeratungSprechstunde.png
ORGANIZER;CN="Fachstelle f%C3%BCr digitales Lehren und Lernen FDL":MAILTO:elearning.ph@fhnw.ch
END:VEVENT
BEGIN:VEVENT
DTSTART;TZID=Europe/Zurich:20220927T100000
DTEND;TZID=Europe/Zurich:20220927T110000
DTSTAMP:20260422T003956
CREATED:20220308T080333Z
LAST-MODIFIED:20220712T073828Z
UID:7697-1664272800-1664276400@www.digitallernen.ch
SUMMARY:Sprechstunde für Hochschullehrende - online
DESCRIPTION:Online: Link zur Zoom-Sitzung
URL:https://www.digitallernen.ch/termin/20220927-sprechstunde-fdl-online/
LOCATION:Online via Zoom
CATEGORIES:Sprechstunde Hochschulehrende
ATTACH;FMTTYPE=image/png:https://www.digitallernen.ch/wp-content/uploads/BeratungSprechstunde.png
ORGANIZER;CN="Fachstelle f%C3%BCr digitales Lehren und Lernen FDL":MAILTO:elearning.ph@fhnw.ch
END:VEVENT
BEGIN:VEVENT
DTSTART;TZID=Europe/Zurich:20220927T120000
DTEND;TZID=Europe/Zurich:20220927T130000
DTSTAMP:20260422T003956
CREATED:20220817T060723Z
LAST-MODIFIED:20220817T060851Z
UID:8966-1664280000-1664283600@www.digitallernen.ch
SUMMARY:DigiLearn4Students-Sprechstunde - online
DESCRIPTION:Online: Link zur Zoom-Sitzung
URL:https://www.digitallernen.ch/termin/20220927-sprechstunde-studierende-online/
LOCATION:Online via Zoom
CATEGORIES:Sprechstunde Studierende
ATTACH;FMTTYPE=image/jpeg:https://www.digitallernen.ch/wp-content/uploads/Sprechstunden-DL4S.jpg
ORGANIZER;CN="Fachstelle f%C3%BCr digitales Lehren und Lernen FDL":MAILTO:elearning.ph@fhnw.ch
END:VEVENT
BEGIN:VEVENT
DTSTART;TZID=Europe/Zurich:20220928T150000
DTEND;TZID=Europe/Zurich:20220928T160000
DTSTAMP:20260422T003956
CREATED:20220308T080724Z
LAST-MODIFIED:20220628T132228Z
UID:7699-1664377200-1664380800@www.digitallernen.ch
SUMMARY:Sprechstunde für Hochschullehrende - online
DESCRIPTION:Online: Link zur Zoom-Sitzung
URL:https://www.digitallernen.ch/termin/20220928-sprechstunde-hochschullehrende-online/
LOCATION:Online via Zoom
CATEGORIES:Sprechstunde Hochschulehrende
ATTACH;FMTTYPE=image/png:https://www.digitallernen.ch/wp-content/uploads/BeratungSprechstunde.png
ORGANIZER;CN="Fachstelle f%C3%BCr digitales Lehren und Lernen FDL":MAILTO:elearning.ph@fhnw.ch
END:VEVENT
END:VCALENDAR