BEGIN:VCALENDAR
VERSION:2.0
PRODID:-//digitallernen - ECPv6.15.20//NONSGML v1.0//EN
CALSCALE:GREGORIAN
METHOD:PUBLISH
X-WR-CALNAME:FHNW - digitallernen.ch - Veranstaltungen
X-ORIGINAL-URL:https://www.digitallernen.ch
X-WR-CALDESC:Veranstaltungen im digitallernen
REFRESH-INTERVAL;VALUE=DURATION:PT1H
X-Robots-Tag:noindex
X-PUBLISHED-TTL:PT1H
BEGIN:VTIMEZONE
TZID:Europe/Zurich
BEGIN:DAYLIGHT
TZOFFSETFROM:+0100
TZOFFSETTO:+0200
TZNAME:CEST
DTSTART:20200329T010000
END:DAYLIGHT
BEGIN:STANDARD
TZOFFSETFROM:+0200
TZOFFSETTO:+0100
TZNAME:CET
DTSTART:20201025T010000
END:STANDARD
BEGIN:DAYLIGHT
TZOFFSETFROM:+0100
TZOFFSETTO:+0200
TZNAME:CEST
DTSTART:20210328T010000
END:DAYLIGHT
BEGIN:STANDARD
TZOFFSETFROM:+0200
TZOFFSETTO:+0100
TZNAME:CET
DTSTART:20211031T010000
END:STANDARD
BEGIN:DAYLIGHT
TZOFFSETFROM:+0100
TZOFFSETTO:+0200
TZNAME:CEST
DTSTART:20220327T010000
END:DAYLIGHT
BEGIN:STANDARD
TZOFFSETFROM:+0200
TZOFFSETTO:+0100
TZNAME:CET
DTSTART:20221030T010000
END:STANDARD
END:VTIMEZONE
BEGIN:VEVENT
DTSTART;TZID=Europe/Zurich:20211124T150000
DTEND;TZID=Europe/Zurich:20211124T160000
DTSTAMP:20260421T180014
CREATED:20210630T133630Z
LAST-MODIFIED:20210719T101629Z
UID:6136-1637766000-1637769600@www.digitallernen.ch
SUMMARY:Sprechstunde FDL (Mittwoch)
DESCRIPTION:
URL:https://www.digitallernen.ch/termin/prechstunde-fdl-24-11-21/
LOCATION:online
CATEGORIES:Sprechstunde Hochschulehrende
ATTACH;FMTTYPE=image/png:https://www.digitallernen.ch/wp-content/uploads/BeratungSprechstunde.png
END:VEVENT
BEGIN:VEVENT
DTSTART;TZID=Europe/Zurich:20211124T121500
DTEND;TZID=Europe/Zurich:20211124T130000
DTSTAMP:20260421T180014
CREATED:20211020T151424Z
LAST-MODIFIED:20211022T132256Z
UID:6621-1637756100-1637758800@www.digitallernen.ch
SUMMARY:Von der Folie zum interaktiven Video
DESCRIPTION:Die von der Fachstelle Digitales Lehren und Lernen organisierte Appetit-Veranstaltung stellt interaktive Videos auf der Basis von Präsentationsfolien ins Zentrum. Orientiert an grundlegenden medienpädagogischen Gedanken\, schauen wir uns an\, wie z.B. in PowerPoint aus Folien Videos entstehen und was dabei beachtet werden muss. Mit einigen einfachen H5P-Funktionen (https://h5p.org/) können diese Videos zudem mit interaktiven Inhalten bereichert werden. \nZur Ausschreibung
URL:https://www.digitallernen.ch/termin/von-der-folie-zum-interaktiven-video/
CATEGORIES:Appetit
ATTACH;FMTTYPE=image/jpeg:https://www.digitallernen.ch/wp-content/uploads/stay-home-safe-g8e8b76805_1920-e1639734968812.jpg
ORGANIZER;CN="C%C3%A4sar K%C3%BCnzi":MAILTO:caesar.kuenzi@fhnw.ch
END:VEVENT
BEGIN:VEVENT
DTSTART;TZID=Europe/Zurich:20211123T100000
DTEND;TZID=Europe/Zurich:20211123T110000
DTSTAMP:20260421T180014
CREATED:20210630T133506Z
LAST-MODIFIED:20210719T101604Z
UID:6134-1637661600-1637665200@www.digitallernen.ch
SUMMARY:Sprechstunde FDL (Dienstag)
DESCRIPTION:
URL:https://www.digitallernen.ch/termin/sprechstunde-fdl-23-11-21/
LOCATION:online
CATEGORIES:Sprechstunde Hochschulehrende
ATTACH;FMTTYPE=image/png:https://www.digitallernen.ch/wp-content/uploads/BeratungSprechstunde.png
END:VEVENT
BEGIN:VEVENT
DTSTART;TZID=Europe/Zurich:20211117T150000
DTEND;TZID=Europe/Zurich:20211117T160000
DTSTAMP:20260421T180014
CREATED:20210630T133255Z
LAST-MODIFIED:20210719T101545Z
UID:6132-1637161200-1637164800@www.digitallernen.ch
SUMMARY:Sprechstunde FDL (Mittwoch)
DESCRIPTION:
URL:https://www.digitallernen.ch/termin/sprechstunde-fdl-17-11-21/
LOCATION:online
CATEGORIES:Sprechstunde Hochschulehrende
ATTACH;FMTTYPE=image/png:https://www.digitallernen.ch/wp-content/uploads/BeratungSprechstunde.png
END:VEVENT
BEGIN:VEVENT
DTSTART;TZID=Europe/Zurich:20211117T121500
DTEND;TZID=Europe/Zurich:20211117T130000
DTSTAMP:20260421T180014
CREATED:20211020T150746Z
LAST-MODIFIED:20211117T072600Z
UID:6618-1637151300-1637154000@www.digitallernen.ch
SUMMARY:Moodle "Planer"
DESCRIPTION:Mit der Aktivität «Planer» können in Moodle Termine für einzelne Studierende oder Gruppen organisiert und verwaltet werden\, wie zum Beispiel Sprechstunden für Studierende. Dazu werden mögliche Zeitfenster festgelegt\, die später entweder durch die Studierenden selbst gebucht oder ihnen zugeteilt werden können. \nZur Ausschreibung
URL:https://www.digitallernen.ch/termin/moodle-planer/
CATEGORIES:Appetit
ATTACH;FMTTYPE=image/jpeg:https://www.digitallernen.ch/wp-content/uploads/stay-home-safe-g8e8b76805_1920-e1639734968812.jpg
ORGANIZER;CN="Mike Hertel":MAILTO:mike.hertel@fhnw.ch
END:VEVENT
BEGIN:VEVENT
DTSTART;TZID=Europe/Zurich:20211116T100000
DTEND;TZID=Europe/Zurich:20211116T110000
DTSTAMP:20260421T180014
CREATED:20210630T133022Z
LAST-MODIFIED:20210719T101527Z
UID:6130-1637056800-1637060400@www.digitallernen.ch
SUMMARY:Sprechstunde FDL (Dienstag)
DESCRIPTION:
URL:https://www.digitallernen.ch/termin/sprechstunde-fdl-16-11-21/
LOCATION:online
CATEGORIES:Sprechstunde Hochschulehrende
ATTACH;FMTTYPE=image/png:https://www.digitallernen.ch/wp-content/uploads/BeratungSprechstunde.png
END:VEVENT
BEGIN:VEVENT
DTSTART;TZID=Europe/Zurich:20211110T150000
DTEND;TZID=Europe/Zurich:20211110T160000
DTSTAMP:20260421T180014
CREATED:20210630T132803Z
LAST-MODIFIED:20210719T101501Z
UID:6128-1636556400-1636560000@www.digitallernen.ch
SUMMARY:Sprechstunde FDL (Mittwoch)
DESCRIPTION:
URL:https://www.digitallernen.ch/termin/sprechstunde-fdl-10-11-21/
LOCATION:online
CATEGORIES:Sprechstunde Hochschulehrende
ATTACH;FMTTYPE=image/png:https://www.digitallernen.ch/wp-content/uploads/BeratungSprechstunde.png
END:VEVENT
BEGIN:VEVENT
DTSTART;TZID=Europe/Zurich:20211110T133000
DTEND;TZID=Europe/Zurich:20211110T170000
DTSTAMP:20260421T180014
CREATED:20211021T070038Z
LAST-MODIFIED:20211022T140431Z
UID:6581-1636551000-1636563600@www.digitallernen.ch
SUMMARY:Die FDL am Schweizer Digitaltag
DESCRIPTION:Die Fachstelle Digitales Lehren und Lernen ist am Schweizer Digitaltag am Standort Olten präsent. Wir möchten mit Ihnen über die Integration von humanoiden Robotern in der Bildung ins Gespräch kommen. \nMit unseren Fragen zur Bildungsverantwortung wenden wir uns an Sie!
URL:https://www.digitallernen.ch/termin/die-fdl-am-schweizer-digitaltag/
LOCATION:Campus Olten\, Von-Roll-Strasse 10\, Olten\, 4600\, Switzerland
CATEGORIES:Die FDL am Digitaltag Schweiz
ATTACH;FMTTYPE=image/png:https://www.digitallernen.ch/wp-content/uploads/Veranstaltung.png
END:VEVENT
BEGIN:VEVENT
DTSTART;TZID=Europe/Zurich:20211109T100000
DTEND;TZID=Europe/Zurich:20211109T110000
DTSTAMP:20260421T180014
CREATED:20210630T132603Z
LAST-MODIFIED:20210719T101441Z
UID:6126-1636452000-1636455600@www.digitallernen.ch
SUMMARY:Sprechstunde FDL (Dienstag)
DESCRIPTION:
URL:https://www.digitallernen.ch/termin/sprechstunde-fdl-09-11-21/
LOCATION:online
CATEGORIES:Sprechstunde Hochschulehrende
ATTACH;FMTTYPE=image/png:https://www.digitallernen.ch/wp-content/uploads/BeratungSprechstunde.png
END:VEVENT
BEGIN:VEVENT
DTSTART;TZID=Europe/Zurich:20211103T150000
DTEND;TZID=Europe/Zurich:20211103T160000
DTSTAMP:20260421T180014
CREATED:20210630T132359Z
LAST-MODIFIED:20210719T101418Z
UID:6124-1635951600-1635955200@www.digitallernen.ch
SUMMARY:Sprechstunde FDL (Mittwoch)
DESCRIPTION:
URL:https://www.digitallernen.ch/termin/sprechstunde-fdl-03-11-21/
LOCATION:online
CATEGORIES:Sprechstunde Hochschulehrende
ATTACH;FMTTYPE=image/png:https://www.digitallernen.ch/wp-content/uploads/BeratungSprechstunde.png
END:VEVENT
BEGIN:VEVENT
DTSTART;TZID=Europe/Zurich:20211102T100000
DTEND;TZID=Europe/Zurich:20211102T110000
DTSTAMP:20260421T180014
CREATED:20210630T132156Z
LAST-MODIFIED:20210719T101357Z
UID:6121-1635847200-1635850800@www.digitallernen.ch
SUMMARY:Sprechstunde FDL (Dienstag)
DESCRIPTION:
URL:https://www.digitallernen.ch/termin/sprechstunde-fdl-02-11-21/
LOCATION:online
CATEGORIES:Sprechstunde Hochschulehrende
ATTACH;FMTTYPE=image/png:https://www.digitallernen.ch/wp-content/uploads/BeratungSprechstunde.png
END:VEVENT
BEGIN:VEVENT
DTSTART;TZID=Europe/Zurich:20211027T150000
DTEND;TZID=Europe/Zurich:20211027T160000
DTSTAMP:20260421T180014
CREATED:20210630T131824Z
LAST-MODIFIED:20210719T101324Z
UID:6118-1635346800-1635350400@www.digitallernen.ch
SUMMARY:Sprechstunde FDL (Mittwoch)
DESCRIPTION:
URL:https://www.digitallernen.ch/termin/sprechstunde-fdl-27-10-21/
LOCATION:online
CATEGORIES:Sprechstunde Hochschulehrende
ATTACH;FMTTYPE=image/png:https://www.digitallernen.ch/wp-content/uploads/BeratungSprechstunde.png
END:VEVENT
BEGIN:VEVENT
DTSTART;TZID=Europe/Zurich:20211026T100000
DTEND;TZID=Europe/Zurich:20211026T110000
DTSTAMP:20260421T180014
CREATED:20210630T131607Z
LAST-MODIFIED:20210928T083641Z
UID:6116-1635242400-1635246000@www.digitallernen.ch
SUMMARY:Sprechstunde FDL (Dienstag) (Termin fällt aus: Teamanlass)
DESCRIPTION:
URL:https://www.digitallernen.ch/termin/sprechstunde-fdl-26-10-21/
CATEGORIES:Sprechstunde Hochschulehrende
ATTACH;FMTTYPE=image/png:https://www.digitallernen.ch/wp-content/uploads/BeratungSprechstunde.png
END:VEVENT
BEGIN:VEVENT
DTSTART;TZID=Europe/Zurich:20211020T150000
DTEND;TZID=Europe/Zurich:20211020T160000
DTSTAMP:20260421T180014
CREATED:20210630T130843Z
LAST-MODIFIED:20210719T101238Z
UID:6114-1634742000-1634745600@www.digitallernen.ch
SUMMARY:Sprechstunde FDL (Mittwoch)
DESCRIPTION:
URL:https://www.digitallernen.ch/termin/sprechstunde-fdl-20-10-21/
LOCATION:online
CATEGORIES:Sprechstunde Hochschulehrende
ATTACH;FMTTYPE=image/png:https://www.digitallernen.ch/wp-content/uploads/BeratungSprechstunde.png
END:VEVENT
BEGIN:VEVENT
DTSTART;TZID=Europe/Zurich:20211019T100000
DTEND;TZID=Europe/Zurich:20211019T110000
DTSTAMP:20260421T180014
CREATED:20210630T130510Z
LAST-MODIFIED:20210719T101206Z
UID:6111-1634637600-1634641200@www.digitallernen.ch
SUMMARY:Sprechstunde FDL (Dienstag)
DESCRIPTION:
URL:https://www.digitallernen.ch/termin/sprechstunde-fdl-19-10-21/
LOCATION:online
CATEGORIES:Sprechstunde Hochschulehrende
ATTACH;FMTTYPE=image/png:https://www.digitallernen.ch/wp-content/uploads/BeratungSprechstunde.png
END:VEVENT
BEGIN:VEVENT
DTSTART;TZID=Europe/Zurich:20211013T150000
DTEND;TZID=Europe/Zurich:20211013T160000
DTSTAMP:20260421T180014
CREATED:20210630T130252Z
LAST-MODIFIED:20210719T101136Z
UID:6109-1634137200-1634140800@www.digitallernen.ch
SUMMARY:Sprechstunde FDL (Mittwoch)
DESCRIPTION:
URL:https://www.digitallernen.ch/termin/sprechstunde-fdl-13-10-21/
LOCATION:online
CATEGORIES:Sprechstunde Hochschulehrende
ATTACH;FMTTYPE=image/png:https://www.digitallernen.ch/wp-content/uploads/BeratungSprechstunde.png
END:VEVENT
BEGIN:VEVENT
DTSTART;TZID=Europe/Zurich:20211012T100000
DTEND;TZID=Europe/Zurich:20211012T110000
DTSTAMP:20260421T180014
CREATED:20210630T130048Z
LAST-MODIFIED:20210719T101117Z
UID:6107-1634032800-1634036400@www.digitallernen.ch
SUMMARY:Sprechstunde FDL (Dienstag)
DESCRIPTION:
URL:https://www.digitallernen.ch/termin/sprechstunde-fdl-12-10-21/
LOCATION:online
CATEGORIES:Sprechstunde Hochschulehrende
ATTACH;FMTTYPE=image/png:https://www.digitallernen.ch/wp-content/uploads/BeratungSprechstunde.png
END:VEVENT
BEGIN:VEVENT
DTSTART;TZID=Europe/Zurich:20211006T150000
DTEND;TZID=Europe/Zurich:20211006T160000
DTSTAMP:20260421T180014
CREATED:20210630T124856Z
LAST-MODIFIED:20210719T101050Z
UID:6105-1633532400-1633536000@www.digitallernen.ch
SUMMARY:Sprechstunde FDL (Mittwoch)
DESCRIPTION:
URL:https://www.digitallernen.ch/termin/sprechstunde-fdl-06-10-21/
LOCATION:online
CATEGORIES:Sprechstunde Hochschulehrende
ATTACH;FMTTYPE=image/png:https://www.digitallernen.ch/wp-content/uploads/BeratungSprechstunde.png
END:VEVENT
BEGIN:VEVENT
DTSTART;TZID=Europe/Zurich:20211005T100000
DTEND;TZID=Europe/Zurich:20211005T110000
DTSTAMP:20260421T180014
CREATED:20210630T124253Z
LAST-MODIFIED:20210719T101023Z
UID:6103-1633428000-1633431600@www.digitallernen.ch
SUMMARY:Sprechstunde FDL (Dienstag)
DESCRIPTION:
URL:https://www.digitallernen.ch/termin/sprechstunde-fdl-05-10-21/
LOCATION:online
CATEGORIES:Sprechstunde Hochschulehrende
ATTACH;FMTTYPE=image/png:https://www.digitallernen.ch/wp-content/uploads/BeratungSprechstunde.png
END:VEVENT
BEGIN:VEVENT
DTSTART;TZID=Europe/Zurich:20211001T100000
DTEND;TZID=Europe/Zurich:20211001T123000
DTSTAMP:20260421T180014
CREATED:20210511T083332Z
LAST-MODIFIED:20211201T162126Z
UID:5735-1633082400-1633091400@www.digitallernen.ch
SUMMARY:Weiterbildung «Moodle4all@PH»
DESCRIPTION:Moodle4all@PH ist das Weiterbildungsangebot für Moodle-Anwender*innen aller Kompetenzstufen. In den Weiterbildungen bieten wir sowohl Informationen zur Einführung in den Umgang mit dem LMS Moodle an der Pädagogischen Hochschule FHNW an als auch Ideen für sinnvolle didaktische Gestaltungsoptionen\, Beispiele anhand einzelner Moodle-Aktivitäten etc..\nZur Anmeldung und weiteren Terminen hier.
URL:https://www.digitallernen.ch/termin/20211001-weiterbildung-moodle4allph/
LOCATION:online
CATEGORIES:Hochschulinterne Weiterbildung
ATTACH;FMTTYPE=image/png:https://www.digitallernen.ch/wp-content/uploads/moodle4all_-e1615545211644.png
ORGANIZER;CN="Mike Hertel":MAILTO:mike.hertel@fhnw.ch
END:VEVENT
BEGIN:VEVENT
DTSTART;TZID=Europe/Zurich:20210929T150000
DTEND;TZID=Europe/Zurich:20210929T160000
DTSTAMP:20260421T180014
CREATED:20210630T124128Z
LAST-MODIFIED:20210719T101000Z
UID:6101-1632927600-1632931200@www.digitallernen.ch
SUMMARY:Sprechstunde FDL (Mittwoch)
DESCRIPTION:
URL:https://www.digitallernen.ch/termin/sprechstunde-fdl-29-09-21/
LOCATION:online
CATEGORIES:Sprechstunde Hochschulehrende
ATTACH;FMTTYPE=image/png:https://www.digitallernen.ch/wp-content/uploads/BeratungSprechstunde.png
END:VEVENT
BEGIN:VEVENT
DTSTART;TZID=Europe/Zurich:20210928T100000
DTEND;TZID=Europe/Zurich:20210928T110000
DTSTAMP:20260421T180014
CREATED:20210630T123943Z
LAST-MODIFIED:20210719T100929Z
UID:6099-1632823200-1632826800@www.digitallernen.ch
SUMMARY:Sprechstunde FDL (Dienstag)
DESCRIPTION:
URL:https://www.digitallernen.ch/termin/sprechstunde-fdl-28-09-21/
LOCATION:online
CATEGORIES:Sprechstunde Hochschulehrende
ATTACH;FMTTYPE=image/png:https://www.digitallernen.ch/wp-content/uploads/BeratungSprechstunde.png
END:VEVENT
BEGIN:VEVENT
DTSTART;TZID=Europe/Zurich:20210927T153000
DTEND;TZID=Europe/Zurich:20210927T170000
DTSTAMP:20260421T180014
CREATED:20210511T083216Z
LAST-MODIFIED:20210511T083216Z
UID:5733-1632756600-1632762000@www.digitallernen.ch
SUMMARY:Weiterbildung «Moodle4all@PH»
DESCRIPTION:Moodle4all@PH ist das Weiterbildungsangebot für Moodle-Anwender*innen aller Kompetenzstufen. In den Weiterbildungen bieten wir sowohl Informationen zur Einführung in den Umgang mit dem LMS Moodle an der Pädagogischen Hochschule FHNW an als auch Ideen für sinnvolle didaktische Gestaltungsoptionen\, Beispiele anhand einzelner Moodle-Aktivitäten etc..\nZur Anmeldung und weiteren Terminen hier.
URL:https://www.digitallernen.ch/termin/20210927-weiterbildung-moodle4allph/
LOCATION:online
CATEGORIES:Hochschulinterne Weiterbildung
ATTACH;FMTTYPE=image/png:https://www.digitallernen.ch/wp-content/uploads/moodle4all_-e1615545211644.png
ORGANIZER;CN="Mike Hertel":MAILTO:mike.hertel@fhnw.ch
END:VEVENT
BEGIN:VEVENT
DTSTART;TZID=Europe/Zurich:20210922T150000
DTEND;TZID=Europe/Zurich:20210922T160000
DTSTAMP:20260421T180014
CREATED:20210630T123441Z
LAST-MODIFIED:20210719T100901Z
UID:6095-1632322800-1632326400@www.digitallernen.ch
SUMMARY:Sprechstunde FDL (Mittwoch)
DESCRIPTION:
URL:https://www.digitallernen.ch/termin/sprechstunde-fdl-22-09-21/
LOCATION:online
CATEGORIES:Sprechstunde Hochschulehrende
ATTACH;FMTTYPE=image/png:https://www.digitallernen.ch/wp-content/uploads/BeratungSprechstunde.png
END:VEVENT
BEGIN:VEVENT
DTSTART;TZID=Europe/Zurich:20210921T100000
DTEND;TZID=Europe/Zurich:20210921T110000
DTSTAMP:20260421T180014
CREATED:20210630T123039Z
LAST-MODIFIED:20210719T100623Z
UID:6093-1632218400-1632222000@www.digitallernen.ch
SUMMARY:Sprechstunde FDL (Dienstag)
DESCRIPTION:
URL:https://www.digitallernen.ch/termin/sprechstunde-fdl-21-09-21/
LOCATION:online
CATEGORIES:Sprechstunde Hochschulehrende
ATTACH;FMTTYPE=image/png:https://www.digitallernen.ch/wp-content/uploads/BeratungSprechstunde.png
END:VEVENT
BEGIN:VEVENT
DTSTART;TZID=Europe/Zurich:20210920T170000
DTEND;TZID=Europe/Zurich:20210920T183000
DTSTAMP:20260421T180014
CREATED:20210312T103511Z
LAST-MODIFIED:20211201T162031Z
UID:5330-1632157200-1632162600@www.digitallernen.ch
SUMMARY:Weiterbildung «Moodle4all@PH»
DESCRIPTION:Moodle4all@PH ist das Weiterbildungsangebot für Moodle-Anwender*innen aller Kompetenzstufen. In den Weiterbildungen bieten wir sowohl Informationen zur Einführung in den Umgang mit dem LMS Moodle an der Pädagogischen Hochschule FHNW an als auch Ideen für sinnvolle didaktische Gestaltungsoptionen\, Beispiele anhand einzelner Moodle-Aktivitäten etc..\nZur Anmeldung und weiteren Terminen hier.
URL:https://www.digitallernen.ch/termin/20210920-weiterbildung-moodle4allph/
LOCATION:online
CATEGORIES:Hochschulinterne Weiterbildung
ATTACH;FMTTYPE=image/png:https://www.digitallernen.ch/wp-content/uploads/moodle4all_-e1615545211644.png
ORGANIZER;CN="Mike Hertel":MAILTO:mike.hertel@fhnw.ch
END:VEVENT
BEGIN:VEVENT
DTSTART;TZID=Europe/Zurich:20210916T140000
DTEND;TZID=Europe/Zurich:20210916T144500
DTSTAMP:20260421T180014
CREATED:20210614T090103Z
LAST-MODIFIED:20210902T135019Z
UID:5909-1631800800-1631803500@www.digitallernen.ch
SUMMARY:Gestaltungsmöglichkeiten von E-Prüfungen in Moodle (Weiterbildungsinseln HS 2021)
DESCRIPTION:Gestaltungsmöglichkeiten von E-Prüfungen in Moodle: Die Gestaltung und Vorbereitung von E-Prüfungen kann in Moodle auf verschiedenen Wegen erfolgen: So können beispielsweise Testinhalte zufällig aus umfangreichen oder mehreren Fragesammlungen zusammengestellt werden. Oder die zu prüfenden Personen werden automatisiert in Gruppen eingeteilt und diesen Gruppenwerden unterschiedliche Aufgaben zugewiesen. Wie dies in Moodle funktioniert\, erfahren Sie auf dieser Insel. \n 
URL:https://www.digitallernen.ch/termin/gestaltungsmoeglichkeiten-epruefungen-weiterbildungsinseln-hs-2021-2-2-2-2-2-2-2-2-2-2-2/
LOCATION:online
CATEGORIES:Weiterbildungsinseln HS 2021
ATTACH;FMTTYPE=image/png:https://www.digitallernen.ch/wp-content/uploads/Beitragsbild-Inselreise.png
END:VEVENT
BEGIN:VEVENT
DTSTART;TZID=Europe/Zurich:20210916T120000
DTEND;TZID=Europe/Zurich:20210916T130000
DTSTAMP:20260421T180014
CREATED:20210614T082537Z
LAST-MODIFIED:20210614T082537Z
UID:5876-1631793600-1631797200@www.digitallernen.ch
SUMMARY:Digital Supplement VI (Weiterbildungsinseln HS 2021)
DESCRIPTION:Digital Supplement: Nutzen Sie unsere “Digital Supplements” zwischen den Verantstaltungen für Fachgespräche\, individuelle Beratungen und Erfahrungsaustausche – wir freuen uns auf Sie!
URL:https://www.digitallernen.ch/termin/digital-supplement-weiterbildungsinseln-hs-2021-2-2-2-2-2-2-2/
LOCATION:online
CATEGORIES:Weiterbildungsinseln HS 2021
ATTACH;FMTTYPE=image/png:https://www.digitallernen.ch/wp-content/uploads/Beitragsbild-Inselreise.png
END:VEVENT
BEGIN:VEVENT
DTSTART;TZID=Europe/Zurich:20210916T110000
DTEND;TZID=Europe/Zurich:20210916T114500
DTSTAMP:20260421T180014
CREATED:20210614T085836Z
LAST-MODIFIED:20210902T135640Z
UID:5907-1631790000-1631792700@www.digitallernen.ch
SUMMARY:Moodle - Good to Know (Weiterbildungsinseln HS 2021)
DESCRIPTION:Moodle – Good to Know: Die Lernplattform Moodle bietet zahlreiche Funktionen und Aktivitäten\, die Sie bei der Organisation und Gestaltung Ihrer Veranstaltung gewinnbringend einsetzen können. Wenn Ihnen Begriffe wie «Download Center»\, Kursformat «Tiles» oder «Blöcke» noch nichts sagen\, dann schauen Sie doch mal auf dieser Insel vorbei. \n 
URL:https://www.digitallernen.ch/termin/moodle-good-to-know-weiterbildungsinseln-hs-2021-2-2-2-2-2-2-2-2-2-2/
LOCATION:online
CATEGORIES:Weiterbildungsinseln HS 2021
ATTACH;FMTTYPE=image/png:https://www.digitallernen.ch/wp-content/uploads/Beitragsbild-Inselreise.png
END:VEVENT
BEGIN:VEVENT
DTSTART;TZID=Europe/Zurich:20210916T100000
DTEND;TZID=Europe/Zurich:20210916T104500
DTSTAMP:20260421T180014
CREATED:20210614T085715Z
LAST-MODIFIED:20210902T135830Z
UID:5905-1631786400-1631789100@www.digitallernen.ch
SUMMARY:Interaktive Videos in der Lehre (H5P) (Weiterbildungsinseln HS 2021)
DESCRIPTION:Interaktive Videos in der Lehre (H5P): Mit H5P lassen sich Videos interaktiv gestalten; das heisst\, Sie können den Ablauf eines Videos aktiv steuern und zu selbst definierten Stellen im Video z.B. Fragen stellen oder zusätzliche Informationen einblenden. Für den Einsatz in der Lehre ergeben sich dadurch vielfältige und spannende Möglichkeiten. \n 
URL:https://www.digitallernen.ch/termin/interaktive-videos-weiterbildungsinseln-hs-2021-2-2-2-2-2-2-2-2-2/
LOCATION:online
CATEGORIES:Weiterbildungsinseln HS 2021
ATTACH;FMTTYPE=image/png:https://www.digitallernen.ch/wp-content/uploads/Beitragsbild-Inselreise.png
END:VEVENT
END:VCALENDAR